BEGIN:VCALENDAR
VERSION:2.0
PRODID:-//bayreuth4U - ECPv6.15.20//NONSGML v1.0//EN
CALSCALE:GREGORIAN
METHOD:PUBLISH
X-ORIGINAL-URL:https://www.bayreuth4u.de
X-WR-CALDESC:Veranstaltungen für bayreuth4U
REFRESH-INTERVAL;VALUE=DURATION:PT1H
X-Robots-Tag:noindex
X-PUBLISHED-TTL:PT1H
BEGIN:VTIMEZONE
TZID:Europe/Berlin
BEGIN:DAYLIGHT
TZOFFSETFROM:+0100
TZOFFSETTO:+0200
TZNAME:CEST
DTSTART:20250330T010000
END:DAYLIGHT
BEGIN:STANDARD
TZOFFSETFROM:+0200
TZOFFSETTO:+0100
TZNAME:CET
DTSTART:20251026T010000
END:STANDARD
BEGIN:DAYLIGHT
TZOFFSETFROM:+0100
TZOFFSETTO:+0200
TZNAME:CEST
DTSTART:20260329T010000
END:DAYLIGHT
BEGIN:STANDARD
TZOFFSETFROM:+0200
TZOFFSETTO:+0100
TZNAME:CET
DTSTART:20261025T010000
END:STANDARD
BEGIN:DAYLIGHT
TZOFFSETFROM:+0100
TZOFFSETTO:+0200
TZNAME:CEST
DTSTART:20270328T010000
END:DAYLIGHT
BEGIN:STANDARD
TZOFFSETFROM:+0200
TZOFFSETTO:+0100
TZNAME:CET
DTSTART:20271031T010000
END:STANDARD
END:VTIMEZONE
BEGIN:VEVENT
DTSTART;TZID=Europe/Berlin:20260416T200000
DTEND;TZID=Europe/Berlin:20260416T200000
DTSTAMP:20260419T142635
CREATED:20260331T074152Z
LAST-MODIFIED:20260331T074156Z
UID:10008520-1776369600-1776369600@www.bayreuth4u.de
SUMMARY:The Dark Tenor
DESCRIPTION:Symphonic Evolution – Rock meets Klassik.
URL:https://www.bayreuth4u.de/event/the-dark-tenor/
LOCATION:Freiheitshalle Hof\, Kulmbacher Str. 4\, Hof\, Bayern\, 95030\, Deutschland
CATEGORIES:Musik
END:VEVENT
BEGIN:VEVENT
DTSTART;TZID=Europe/Berlin:20260415T180000
DTEND;TZID=Europe/Berlin:20260415T180000
DTSTAMP:20260419T142635
CREATED:20260331T074145Z
LAST-MODIFIED:20260401T133808Z
UID:10008516-1776276000-1776276000@www.bayreuth4u.de
SUMMARY:Eiskönigin 1 & 2
DESCRIPTION:Die Musik-Show auf Eis.
URL:https://www.bayreuth4u.de/event/eiskoenigin-1-2-2/
LOCATION:Freiheitshalle Hof\, Kulmbacher Str. 4\, Hof\, Bayern\, 95030\, Deutschland
CATEGORIES:Kunst&Bühne
END:VEVENT
BEGIN:VEVENT
DTSTART;TZID=Europe/Berlin:20260412T190000
DTEND;TZID=Europe/Berlin:20260412T190000
DTSTAMP:20260419T142635
CREATED:20260331T074102Z
LAST-MODIFIED:20260401T134632Z
UID:10008499-1776020400-1776020400@www.bayreuth4u.de
SUMMARY:ABBA Diamonds
DESCRIPTION:Die ABBA-Tribute-Show.
URL:https://www.bayreuth4u.de/event/abba-diamonds/
LOCATION:Freiheitshalle Hof\, Kulmbacher Str. 4\, Hof\, Bayern\, 95030\, Deutschland
CATEGORIES:Musik
END:VEVENT
BEGIN:VEVENT
DTSTART;TZID=Europe/Berlin:20260410T203000
DTEND;TZID=Europe/Berlin:20260410T203000
DTSTAMP:20260419T142635
CREATED:20260331T073952Z
LAST-MODIFIED:20260331T073954Z
UID:10008476-1775853000-1775853000@www.bayreuth4u.de
SUMMARY:Eisi Gulp
DESCRIPTION:Der Schauspieler und Komiker mit seinem Programm „Tagebuch eines Komikers“.
URL:https://www.bayreuth4u.de/event/eisi-gulp-2/
LOCATION:Freiheitshalle Hof\, Kulmbacher Str. 4\, Hof\, Bayern\, 95030\, Deutschland
CATEGORIES:Kunst&Bühne
END:VEVENT
BEGIN:VEVENT
DTSTART;TZID=Europe/Berlin:20260327T200000
DTEND;TZID=Europe/Berlin:20260327T200000
DTSTAMP:20260419T142635
CREATED:20260225T143531Z
LAST-MODIFIED:20260225T143531Z
UID:10008400-1774641600-1774641600@www.bayreuth4u.de
SUMMARY:Karat
DESCRIPTION:Zeitlose Rockmusik auf großer Live-Tour.
URL:https://www.bayreuth4u.de/event/karat/
LOCATION:Freiheitshalle Hof\, Kulmbacher Str. 4\, Hof\, Bayern\, 95030\, Deutschland
END:VEVENT
BEGIN:VEVENT
DTSTART;TZID=Europe/Berlin:20260323T190000
DTEND;TZID=Europe/Berlin:20260323T190000
DTSTAMP:20260419T142635
CREATED:20260225T143403Z
LAST-MODIFIED:20260225T143403Z
UID:10008376-1774292400-1774292400@www.bayreuth4u.de
SUMMARY:The Music Of Ludovico Einaudi
DESCRIPTION:Ein Tribute-Klavierkonzert.
URL:https://www.bayreuth4u.de/event/the-music-of-ludovico-einaudi/
LOCATION:Freiheitshalle Hof\, Kulmbacher Str. 4\, Hof\, Bayern\, 95030\, Deutschland
END:VEVENT
BEGIN:VEVENT
DTSTART;TZID=Europe/Berlin:20260319T193000
DTEND;TZID=Europe/Berlin:20260319T193000
DTSTAMP:20260419T142635
CREATED:20260225T143117Z
LAST-MODIFIED:20260225T143117Z
UID:10008329-1773948600-1773948600@www.bayreuth4u.de
SUMMARY:The World Of Hans Zimmer
DESCRIPTION:Die spektakuläre Live-Show mit Filmmusik\, großem Orchester und beeindruckenden visuellen Effekten.
URL:https://www.bayreuth4u.de/event/the-world-of-hans-zimmer/
LOCATION:Freiheitshalle Hof\, Kulmbacher Str. 4\, Hof\, Bayern\, 95030\, Deutschland
END:VEVENT
END:VCALENDAR