BEGIN:VCALENDAR
VERSION:2.0
PRODID:-//bayreuth4U - ECPv6.15.20//NONSGML v1.0//EN
CALSCALE:GREGORIAN
METHOD:PUBLISH
X-ORIGINAL-URL:https://www.bayreuth4u.de
X-WR-CALDESC:Veranstaltungen für bayreuth4U
REFRESH-INTERVAL;VALUE=DURATION:PT1H
X-Robots-Tag:noindex
X-PUBLISHED-TTL:PT1H
BEGIN:VTIMEZONE
TZID:Europe/Berlin
BEGIN:DAYLIGHT
TZOFFSETFROM:+0100
TZOFFSETTO:+0200
TZNAME:CEST
DTSTART:20250330T010000
END:DAYLIGHT
BEGIN:STANDARD
TZOFFSETFROM:+0200
TZOFFSETTO:+0100
TZNAME:CET
DTSTART:20251026T010000
END:STANDARD
BEGIN:DAYLIGHT
TZOFFSETFROM:+0100
TZOFFSETTO:+0200
TZNAME:CEST
DTSTART:20260329T010000
END:DAYLIGHT
BEGIN:STANDARD
TZOFFSETFROM:+0200
TZOFFSETTO:+0100
TZNAME:CET
DTSTART:20261025T010000
END:STANDARD
BEGIN:DAYLIGHT
TZOFFSETFROM:+0100
TZOFFSETTO:+0200
TZNAME:CEST
DTSTART:20270328T010000
END:DAYLIGHT
BEGIN:STANDARD
TZOFFSETFROM:+0200
TZOFFSETTO:+0100
TZNAME:CET
DTSTART:20271031T010000
END:STANDARD
END:VTIMEZONE
BEGIN:VEVENT
DTSTART;TZID=Europe/Berlin:20260417T190000
DTEND;TZID=Europe/Berlin:20260417T190000
DTSTAMP:20260420T011917
CREATED:20260331T074215Z
LAST-MODIFIED:20260401T133529Z
UID:10008525-1776452400-1776452400@www.bayreuth4u.de
SUMMARY:Fußball
DESCRIPTION:SpVgg BAyreuth vs. DJK Vilzing.
URL:https://www.bayreuth4u.de/event/fussball-4/
LOCATION:Hans-Walter-Wild-Stadion\, Bayreuth\, 95448\, Deutschland
CATEGORIES:Sonstiges
END:VEVENT
BEGIN:VEVENT
DTSTART;TZID=Europe/Berlin:20260406T140000
DTEND;TZID=Europe/Berlin:20260406T140000
DTSTAMP:20260420T011917
CREATED:20260331T073921Z
LAST-MODIFIED:20260331T073921Z
UID:10008452-1775484000-1775484000@www.bayreuth4u.de
SUMMARY:Fußball
DESCRIPTION:SpVgg BAyreuth vs. FC Memmingen.
URL:https://www.bayreuth4u.de/event/fussball-3/
LOCATION:Hans-Walter-Wild-Stadion\, Bayreuth\, 95448\, Deutschland
CATEGORIES:Sonstiges
END:VEVENT
BEGIN:VEVENT
DTSTART;TZID=Europe/Berlin:20260320T190000
DTEND;TZID=Europe/Berlin:20260320T190000
DTSTAMP:20260420T011917
CREATED:20260225T143147Z
LAST-MODIFIED:20260225T143147Z
UID:10008336-1774033200-1774033200@www.bayreuth4u.de
SUMMARY:Fußball
DESCRIPTION:SpVgg Bayreuth vs. Schwaben Augsburg.
URL:https://www.bayreuth4u.de/event/fussball-2/
LOCATION:Hans-Walter-Wild-Stadion\, Bayreuth\, 95448\, Deutschland
END:VEVENT
END:VCALENDAR