BEGIN:VCALENDAR
VERSION:2.0
PRODID:-//bayreuth4U - ECPv6.15.20//NONSGML v1.0//EN
CALSCALE:GREGORIAN
METHOD:PUBLISH
X-ORIGINAL-URL:https://www.bayreuth4u.de
X-WR-CALDESC:Veranstaltungen für bayreuth4U
REFRESH-INTERVAL;VALUE=DURATION:PT1H
X-Robots-Tag:noindex
X-PUBLISHED-TTL:PT1H
BEGIN:VTIMEZONE
TZID:Europe/Berlin
BEGIN:DAYLIGHT
TZOFFSETFROM:+0100
TZOFFSETTO:+0200
TZNAME:CEST
DTSTART:20250330T010000
END:DAYLIGHT
BEGIN:STANDARD
TZOFFSETFROM:+0200
TZOFFSETTO:+0100
TZNAME:CET
DTSTART:20251026T010000
END:STANDARD
BEGIN:DAYLIGHT
TZOFFSETFROM:+0100
TZOFFSETTO:+0200
TZNAME:CEST
DTSTART:20260329T010000
END:DAYLIGHT
BEGIN:STANDARD
TZOFFSETFROM:+0200
TZOFFSETTO:+0100
TZNAME:CET
DTSTART:20261025T010000
END:STANDARD
BEGIN:DAYLIGHT
TZOFFSETFROM:+0100
TZOFFSETTO:+0200
TZNAME:CEST
DTSTART:20270328T010000
END:DAYLIGHT
BEGIN:STANDARD
TZOFFSETFROM:+0200
TZOFFSETTO:+0100
TZNAME:CET
DTSTART:20271031T010000
END:STANDARD
END:VTIMEZONE
BEGIN:VEVENT
DTSTART;TZID=Europe/Berlin:20260418T210000
DTEND;TZID=Europe/Berlin:20260418T210000
DTSTAMP:20260423T122014
CREATED:20260331T074336Z
LAST-MODIFIED:20260331T111852Z
UID:10008548-1776546000-1776546000@www.bayreuth4u.de
SUMMARY:Saturday-Night
DESCRIPTION:
URL:https://www.bayreuth4u.de/event/saturday-night/
LOCATION:Tanzbar\, Bernecker Straße 79\, Bayreuth\, Bayern\, 95448\, Deutschland
CATEGORIES:Party
END:VEVENT
BEGIN:VEVENT
DTSTART;TZID=Europe/Berlin:20260417T210000
DTEND;TZID=Europe/Berlin:20260417T210000
DTSTAMP:20260423T122014
CREATED:20260331T074233Z
LAST-MODIFIED:20260401T132722Z
UID:10008531-1776459600-1776459600@www.bayreuth4u.de
SUMMARY:Friday Disco Night
DESCRIPTION:
URL:https://www.bayreuth4u.de/event/friday-disco-night-9/
LOCATION:Tanzbar\, Bernecker Straße 79\, Bayreuth\, Bayern\, 95448\, Deutschland
CATEGORIES:Party
END:VEVENT
BEGIN:VEVENT
DTSTART;TZID=Europe/Berlin:20260411T210000
DTEND;TZID=Europe/Berlin:20260411T210000
DTSTAMP:20260423T122014
CREATED:20260331T074036Z
LAST-MODIFIED:20260402T061049Z
UID:10008491-1775941200-1775941200@www.bayreuth4u.de
SUMMARY:Forever Young
DESCRIPTION:Hits der letzten 30 Jahre.
URL:https://www.bayreuth4u.de/event/forever-young/
LOCATION:Tanzbar\, Bernecker Straße 79\, Bayreuth\, Bayern\, 95448\, Deutschland
CATEGORIES:Party
END:VEVENT
BEGIN:VEVENT
DTSTART;TZID=Europe/Berlin:20260410T203000
DTEND;TZID=Europe/Berlin:20260410T203000
DTSTAMP:20260423T122014
CREATED:20260331T074004Z
LAST-MODIFIED:20260402T062230Z
UID:10008478-1775853000-1775853000@www.bayreuth4u.de
SUMMARY:Fox Me Up
DESCRIPTION:
URL:https://www.bayreuth4u.de/event/fox-me-up-10/
LOCATION:Tanzbar\, Bernecker Straße 79\, Bayreuth\, Bayern\, 95448\, Deutschland
CATEGORIES:Party
END:VEVENT
BEGIN:VEVENT
DTSTART;TZID=Europe/Berlin:20260405T210000
DTEND;TZID=Europe/Berlin:20260405T210000
DTSTAMP:20260423T122014
CREATED:20260331T073918Z
LAST-MODIFIED:20260402T101307Z
UID:10008447-1775422800-1775422800@www.bayreuth4u.de
SUMMARY:Ü40-Oster-Party
DESCRIPTION:
URL:https://www.bayreuth4u.de/event/ue40-oster-party/
LOCATION:Tanzbar\, Bernecker Straße 79\, Bayreuth\, Bayern\, 95448\, Deutschland
CATEGORIES:Party
END:VEVENT
BEGIN:VEVENT
DTSTART;TZID=Europe/Berlin:20260404T210000
DTEND;TZID=Europe/Berlin:20260404T210000
DTSTAMP:20260423T122014
CREATED:20260331T073847Z
LAST-MODIFIED:20260402T102052Z
UID:10008436-1775336400-1775336400@www.bayreuth4u.de
SUMMARY:Ladies Night
DESCRIPTION:
URL:https://www.bayreuth4u.de/event/ladies-night-5/
LOCATION:Tanzbar\, Bernecker Straße 79\, Bayreuth\, Bayern\, 95448\, Deutschland
CATEGORIES:Party
END:VEVENT
BEGIN:VEVENT
DTSTART;TZID=Europe/Berlin:20260401T210000
DTEND;TZID=Europe/Berlin:20260401T210000
DTSTAMP:20260423T122014
CREATED:20260331T073815Z
LAST-MODIFIED:20260331T073815Z
UID:10008432-1775077200-1775077200@www.bayreuth4u.de
SUMMARY:Disco Night
DESCRIPTION:Ü40 Party.
URL:https://www.bayreuth4u.de/event/disco-night/
LOCATION:Tanzbar\, Bernecker Straße 79\, Bayreuth\, Bayern\, 95448\, Deutschland
CATEGORIES:Party
END:VEVENT
BEGIN:VEVENT
DTSTART;TZID=Europe/Berlin:20260327T203000
DTEND;TZID=Europe/Berlin:20260327T203000
DTSTAMP:20260423T122014
CREATED:20260225T143545Z
LAST-MODIFIED:20260225T143545Z
UID:10008403-1774643400-1774643400@www.bayreuth4u.de
SUMMARY:Fox me Up
DESCRIPTION:
URL:https://www.bayreuth4u.de/event/fox-me-up-9/
LOCATION:Tanzbar\, Bernecker Straße 79\, Bayreuth\, Bayern\, 95448\, Deutschland
END:VEVENT
BEGIN:VEVENT
DTSTART;TZID=Europe/Berlin:20260321T210000
DTEND;TZID=Europe/Berlin:20260321T210000
DTSTAMP:20260423T122014
CREATED:20260225T143306Z
LAST-MODIFIED:20260225T143306Z
UID:10008360-1774126800-1774126800@www.bayreuth4u.de
SUMMARY:30plus Party
DESCRIPTION:
URL:https://www.bayreuth4u.de/event/30plus-party-4/
LOCATION:Tanzbar\, Bernecker Straße 79\, Bayreuth\, Bayern\, 95448\, Deutschland
END:VEVENT
END:VCALENDAR